BEGIN:VCALENDAR
VERSION:2.0
PRODID:icalendar-ruby
CALSCALE:GREGORIAN
METHOD:PUBLISH
BEGIN:VEVENT
DTSTAMP:20260422T114649Z
UID:5-522226@calvarysnohomish.com
DTSTART:20261101T180000Z
DTEND:20261101T193000Z
CLASS:PUBLIC
CREATED:20260422T040535
DESCRIPTION:
LAST-MODIFIED:20260422T040535
LOCATION:
SUMMARY:Sunday Morning Service
URL;VALUE=URI:https://calvarysnohomish.com/events/sunday-morning-service/20
 26-11-01
END:VEVENT
END:VCALENDAR
