BEGIN:VCALENDAR
VERSION:2.0
PRODID:icalendar-ruby
CALSCALE:GREGORIAN
METHOD:PUBLISH
BEGIN:VEVENT
DTSTAMP:20260422T103638Z
UID:5-521927@calvarysnohomish.com
DTSTART:20261025T170000Z
DTEND:20261025T183000Z
CLASS:PUBLIC
CREATED:20260421T170607
DESCRIPTION:
LAST-MODIFIED:20260421T170607
LOCATION:
SUMMARY:Sunday Morning Service
URL;VALUE=URI:https://calvarysnohomish.com/events/sunday-morning-service/20
 26-10-25
END:VEVENT
END:VCALENDAR
